BEGIN:VCALENDAR
VERSION:2.0
PRODID:Events Booking
BEGIN:VEVENT
UID:69e8bae70619a
SUMMARY:MEMBERSHIP DRIVE & GIVING BACK TO THE COMMUNITY
DESCRIPTION:
 
 
 
 
 
LOCATION:1025 W 20th Ave\, Oshkosh\, WI 54902\, USA
DTSTART:20260423T140000Z
DTEND:20260423T180000Z
DTSTAMP:20260311T224954Z
ORGANIZER;CN=Green Bay Area Postal Customer Council:MAILTO:info@greenbaypcc
 .com
GEO:43.995429;-88.563788
X-APPLE-STRUCTURED-LOCATION;VALUE=URI;X-ADDRESS=1025 W 20th Ave\, Oshkosh\,
  WI 54902\, USA;X-APPLE-RADIUS=72;X-TITLE=Oshkosh Post Office:43.995429;-8
 8.563788
END:VEVENT
END:VCALENDAR