BEGIN:VCALENDAR
VERSION:2.0
PRODID:Events Booking
BEGIN:VEVENT
UID:69e7add41223a
SUMMARY:Networking Dinner
DESCRIPTION:
 FOOD OPTIONS FOR DINNER:
 Braised Beef Tips- Slowly Braised
  Angus Beef in a Rich Mushroom Gravy
 or
 Herb Roasted Chicken- Half Roa
 sted Chicken Quartered and Brushed with Herb Butter
 &nbsp\;
 Dinner wil
 l be served with chef’s choice starch and vegetable\, dinner rolls\, but
 ter a coffee/iced tea station with a garden salad (cucumber\, red onion\, 
 cherry tomato\, house Italian on the side)
 &nbsp\;
 If you have food al
 lergies\, please email heather.j.burch@usps.gov
LOCATION:1951 Bond St\, Green Bay\, WI 54303\, USA
DTSTART:20250626T200000Z
DTEND:20250627T000000Z
DTSTAMP:20250423T001906Z
ORGANIZER;CN=Green Bay Area Postal Customer Council:MAILTO:info@greenbaypcc
 .com
GEO:44.541477;-88.072326
X-APPLE-STRUCTURED-LOCATION;VALUE=URI;X-ADDRESS=1951 Bond St\, Green Bay\, 
 WI 54303\, USA;X-APPLE-RADIUS=72;X-TITLE=Rock Garden:44.541477;-88.072326
END:VEVENT
END:VCALENDAR